BEGIN:VCALENDAR
VERSION:2.0
PRODID:-//Astronomie Magdeburg - ECPv6.15.19//NONSGML v1.0//EN
CALSCALE:GREGORIAN
METHOD:PUBLISH
X-WR-CALNAME:Astronomie Magdeburg
X-ORIGINAL-URL:https://astronomie-magdeburg.de
X-WR-CALDESC:Veranstaltungen für Astronomie Magdeburg
REFRESH-INTERVAL;VALUE=DURATION:PT1H
X-Robots-Tag:noindex
X-PUBLISHED-TTL:PT1H
BEGIN:VTIMEZONE
TZID:Europe/Berlin
BEGIN:DAYLIGHT
TZOFFSETFROM:+0100
TZOFFSETTO:+0200
TZNAME:CEST
DTSTART:20250330T010000
END:DAYLIGHT
BEGIN:STANDARD
TZOFFSETFROM:+0200
TZOFFSETTO:+0100
TZNAME:CET
DTSTART:20251026T010000
END:STANDARD
BEGIN:DAYLIGHT
TZOFFSETFROM:+0100
TZOFFSETTO:+0200
TZNAME:CEST
DTSTART:20260329T010000
END:DAYLIGHT
BEGIN:STANDARD
TZOFFSETFROM:+0200
TZOFFSETTO:+0100
TZNAME:CET
DTSTART:20261025T010000
END:STANDARD
BEGIN:DAYLIGHT
TZOFFSETFROM:+0100
TZOFFSETTO:+0200
TZNAME:CEST
DTSTART:20270328T010000
END:DAYLIGHT
BEGIN:STANDARD
TZOFFSETFROM:+0200
TZOFFSETTO:+0100
TZNAME:CET
DTSTART:20271031T010000
END:STANDARD
END:VTIMEZONE
BEGIN:VEVENT
DTSTART;TZID=Europe/Berlin:20260422T190000
DTEND;TZID=Europe/Berlin:20260422T210000
DTSTAMP:20260422T181129
CREATED:20260312T082917Z
LAST-MODIFIED:20260312T082917Z
UID:12587-1776884400-1776891600@astronomie-magdeburg.de
SUMMARY:Mitgliederversammlung
DESCRIPTION:Liebe Sternfreundin\, lieber Sternfreund\, \nder Vorsitzende der Astronomischen Gesellschaft Magdeburg e. V. lädt hiermit alle Mitglieder herzlich zur diesjährigen Mitgliederversammlung ein.
URL:https://astronomie-magdeburg.de/veranstaltungen/mitgliederversammlung
LOCATION:Astronomische Gesellschaft\, Rötgerstr. 8\, Magdeburg\, 39104\, Deutschland
CATEGORIES:AGM Intern
ORGANIZER;CN="Astronomische Gesellschaft Magdeburg e.V.":MAILTO:infomail@astronomie-magdeburg.de
END:VEVENT
END:VCALENDAR